Workbook

Sheet Lån
A1: Annuitetslån i Sinusbanken
A2: =IF(D3="","Fyll ut alle de gule rutene og trykk på ENTER.","")
A3: Lånesum | D3: 60000
A4: Rentefot | D4: 5 | F4: =1+D4/100 -> 1.05
A5: År | D5: 3 | F5: =D5*D6 -> 36
A6: Terminer per år (1, 12) | D6: 12 | F6: =F4^(1/D6) -> 1.0040741
F7: =F6-1 -> 0.0040741238
A8: Termin | B8: Renter | C8: Avdrag | D8: Terminbeløp | E8: Restlån | F8: =1/F6 -> 0.99594241 | G8: =(D3*D4*D5*D5*D6>0) -> TRUE
A9: =IF(G9,F9,"") -> 1 | B9: =IF(G9,D3*F7,"") -> 244.44743 | C9: =IF(G9,D$9-B9,"") -> 1550.8163 | D9: =IF(G9,D3*(F8-1)/(F8*(F8^F5-1)),"") -> 1795.2638 | E9: =IF(G9,D3-C9,"") -> 58449.184 | F9: 1 | G9: =AND(F9<=F$5,G8) -> TRUE | H9: =AND(G$8,F9=MAXA(14,D$5*D$6+2)) -> FALSE
A10: =IF(G10,F10,IF(H10,"Sum","")) -> 2 | B10: =IF(G10,E9*F$7,IF(H10,SUM(B8:B$9),"")) -> 238.12921 | C10: =IF(G10,D$9-B10,IF(H10,SUM(C8:C$9),"")) -> 1557.1346 | D10: =IF(G10,D$9,IF(H10,SUM(D8:D$9),"")) -> 1795.2638 | E10: =IF(G10,E9-C10,"") -> 56892.049 | F10: 2 | G10: =AND(F10<=F$5,G9) -> TRUE | H10: =AND(G$8,F10=MAXA(14,D$5*D$6+2)) -> FALSE
A11: =IF(G11,F11,IF(H11,"Sum","")) -> 3 | B11: =IF(G11,E10*F$7,IF(H11,SUM(B9:B$9),"")) -> 231.78525 | C11: =IF(G11,D$9-B11,IF(H11,SUM(C9:C$9),"")) -> 1563.4785 | D11: =IF(G11,D$9,IF(H11,SUM(D9:D$9),"")) -> 1795.2638 | E11: =IF(G11,E10-C11,"") -> 55328.571 | F11: 3 | G11: =AND(F11<=F$5,G10) -> TRUE | H11: =AND(G$8,F11=MAXA(14,D$5*D$6+2)) -> FALSE
A12: =IF(G12,F12,IF(H12,"Sum","")) -> 4 | B12: =IF(G12,E11*F$7,IF(H12,SUM(B$9:B10),"")) -> 225.41545 | C12: =IF(G12,D$9-B12,IF(H12,SUM(C$9:C10),"")) -> 1569.8483 | D12: =IF(G12,D$9,IF(H12,SUM(D$9:D10),"")) -> 1795.2638 | E12: =IF(G12,E11-C12,"") -> 53758.722 | F12: 4 | G12: =AND(F12<=F$5,G11) -> TRUE | H12: =AND(G$8,F12=MAXA(14,D$5*D$6+2)) -> FALSE
A13: =IF(G13,F13,IF(H13,"Sum","")) -> 5 | B13: =IF(G13,E12*F$7,IF(H13,SUM(B$9:B11),"")) -> 219.01969 | C13: =IF(G13,D$9-B13,IF(H13,SUM(C$9:C11),"")) -> 1576.2441 | D13: =IF(G13,D$9,IF(H13,SUM(D$9:D11),"")) -> 1795.2638 | E13: =IF(G13,E12-C13,"") -> 52182.478 | F13: 5 | G13: =AND(F13<=F$5,G12) -> TRUE | H13: =AND(G$8,F13=MAXA(14,D$5*D$6+2)) -> FALSE
A14: =IF(G14,F14,IF(H14,"Sum","")) -> 6 | B14: =IF(G14,E13*F$7,IF(H14,SUM(B$9:B12),"")) -> 212.59788 | C14: =IF(G14,D$9-B14,IF(H14,SUM(C$9:C12),"")) -> 1582.6659 | D14: =IF(G14,D$9,IF(H14,SUM(D$9:D12),"")) -> 1795.2638 | E14: =IF(G14,E13-C14,"") -> 50599.812 | F14: 6 | G14: =AND(F14<=F$5,G13) -> TRUE | H14: =AND(G$8,F14=MAXA(14,D$5*D$6+2)) -> FALSE
A15: =IF(G15,F15,IF(H15,"Sum","")) -> 7 | B15: =IF(G15,E14*F$7,IF(H15,SUM(B$9:B13),"")) -> 206.1499 | C15: =IF(G15,D$9-B15,IF(H15,SUM(C$9:C13),"")) -> 1589.1139 | D15: =IF(G15,D$9,IF(H15,SUM(D$9:D13),"")) -> 1795.2638 | E15: =IF(G15,E14-C15,"") -> 49010.698 | F15: 7 | G15: =AND(F15<=F$5,G14) -> TRUE | H15: =AND(G$8,F15=MAXA(14,D$5*D$6+2)) -> FALSE
A16: =IF(G16,F16,IF(H16,"Sum","")) -> 8 | B16: =IF(G16,E15*F$7,IF(H16,SUM(B$9:B14),"")) -> 199.67565 | C16: =IF(G16,D$9-B16,IF(H16,SUM(C$9:C14),"")) -> 1595.5881 | D16: =IF(G16,D$9,IF(H16,SUM(D$9:D14),"")) -> 1795.2638 | E16: =IF(G16,E15-C16,"") -> 47415.11 | F16: 8 | G16: =AND(F16<=F$5,G15) -> TRUE | H16: =AND(G$8,F16=MAXA(14,D$5*D$6+2)) -> FALSE
A17: =IF(G17,F17,IF(H17,"Sum","")) -> 9 | B17: =IF(G17,E16*F$7,IF(H17,SUM(B$9:B15),"")) -> 193.17503 | C17: =IF(G17,D$9-B17,IF(H17,SUM(C$9:C15),"")) -> 1602.0887 | D17: =IF(G17,D$9,IF(H17,SUM(D$9:D15),"")) -> 1795.2638 | E17: =IF(G17,E16-C17,"") -> 45813.021 | F17: 9 | G17: =AND(F17<=F$5,G16) -> TRUE | H17: =AND(G$8,F17=MAXA(14,D$5*D$6+2)) -> FALSE
A18: =IF(G18,F18,IF(H18,"Sum","")) -> 10 | B18: =IF(G18,E17*F$7,IF(H18,SUM(B$9:B16),"")) -> 186.64792 | C18: =IF(G18,D$9-B18,IF(H18,SUM(C$9:C16),"")) -> 1608.6159 | D18: =IF(G18,D$9,IF(H18,SUM(D$9:D16),"")) -> 1795.2638 | E18: =IF(G18,E17-C18,"") -> 44204.406 | F18: 10 | G18: =AND(F18<=F$5,G17) -> TRUE | H18: =AND(G$8,F18=MAXA(14,D$5*D$6+2)) -> FALSE
A19: =IF(G19,F19,IF(H19,"Sum","")) -> 11 | B19: =IF(G19,E18*F$7,IF(H19,SUM(B$9:B17),"")) -> 180.09422 | C19: =IF(G19,D$9-B19,IF(H19,SUM(C$9:C17),"")) -> 1615.1696 | D19: =IF(G19,D$9,IF(H19,SUM(D$9:D17),"")) -> 1795.2638 | E19: =IF(G19,E18-C19,"") -> 42589.236 | F19: 11 | G19: =AND(F19<=F$5,G18) -> TRUE | H19: =AND(G$8,F19=MAXA(14,D$5*D$6+2)) -> FALSE
A20: =IF(G20,F20,IF(H20,"Sum","")) -> 12 | B20: =IF(G20,E19*F$7,IF(H20,SUM(B$9:B18),"")) -> 173.51382 | C20: =IF(G20,D$9-B20,IF(H20,SUM(C$9:C18),"")) -> 1621.75 | D20: =IF(G20,D$9,IF(H20,SUM(D$9:D18),"")) -> 1795.2638 | E20: =IF(G20,E19-C20,"") -> 40967.486 | F20: 12 | G20: =AND(F20<=F$5,G19) -> TRUE | H20: =AND(G$8,F20=MAXA(14,D$5*D$6+2)) -> FALSE
A21: =IF(G21,F21,IF(H21,"Sum","")) -> 13 | B21: =IF(G21,E20*F$7,IF(H21,SUM(B$9:B19),"")) -> 166.90661 | C21: =IF(G21,D$9-B21,IF(H21,SUM(C$9:C19),"")) -> 1628.3572 | D21: =IF(G21,D$9,IF(H21,SUM(D$9:D19),"")) -> 1795.2638 | E21: =IF(G21,E20-C21,"") -> 39339.129 | F21: 13 | G21: =AND(F21<=F$5,G20) -> TRUE | H21: =AND(G$8,F21=MAXA(14,D$5*D$6+2)) -> FALSE
A22: =IF(G22,F22,IF(H22,"Sum","")) -> 14 | B22: =IF(G22,E21*F$7,IF(H22,SUM(B$9:B20),"")) -> 160.27248 | C22: =IF(G22,D$9-B22,IF(H22,SUM(C$9:C20),"")) -> 1634.9913 | D22: =IF(G22,D$9,IF(H22,SUM(D$9:D20),"")) -> 1795.2638 | E22: =IF(G22,E21-C22,"") -> 37704.138 | F22: 14 | G22: =AND(F22<=F$5,G21) -> TRUE | H22: =AND(G$8,F22=MAXA(14,D$5*D$6+2)) -> FALSE
A23: =IF(G23,F23,IF(H23,"Sum","")) -> 15 | B23: =IF(G23,E22*F$7,IF(H23,SUM(B$9:B21),"")) -> 153.61132 | C23: =IF(G23,D$9-B23,IF(H23,SUM(C$9:C21),"")) -> 1641.6525 | D23: =IF(G23,D$9,IF(H23,SUM(D$9:D21),"")) -> 1795.2638 | E23: =IF(G23,E22-C23,"") -> 36062.485 | F23: 15 | G23: =AND(F23<=F$5,G22) -> TRUE | H23: =AND(G$8,F23=MAXA(14,D$5*D$6+2)) -> FALSE
... A128: =IF(G128,F128,IF(H128,"Sum","")) | B128: =IF(G128,E127*F$7,IF(H128,SUM(B$9:B126),"")) | C128: =IF(G128,D$9-B128,IF(H128,SUM(C$9:C126),"")) | D128: =IF(G128,D$9,IF(H128,SUM(D$9:D126),"")) | E128: =IF(G128,E127-C128,"") | F128: 120 | G128: =AND(F128<=F$5,G127) -> FALSE | H128: =AND(G$8,F128=MAXA(14,D$5*D$6+2)) -> FALSE
A129: =IF(G129,F129,IF(H129,"Sum","")) | B129: =IF(G129,E128*F$7,IF(H129,SUM(B$9:B127),"")) | C129: =IF(G129,D$9-B129,IF(H129,SUM(C$9:C127),"")) | D129: =IF(G129,D$9,IF(H129,SUM(D$9:D127),"")) | F129: 121 | H129: =AND(G$8,F129=MAXA(14,D$5*D$6+2)) -> FALSE
A130: =IF(G128,"Sum","") | B130: =IF(G128,D130-C130,"") | C130: =IF(G128,D3,"") | D130: =IF(G128,D9*D5*D6,"") | F130: 122 | H130: =AND(G$8,F130=MAXA(14,D$5*D$6+2)) -> FALSE
A131: =IF(AND(G128,E128>0),"Lånet har flere terminer. Summen er ved nedbetalt lån.","")

Sheet Årsplan
A1: Betalingsplan i inntil 10 år
A2: År | B2: Renter | C2: Avdrag | D2: Terminbeløp | E2: Restlån | G2: =Lån!D6 -> 12
A3: =IF(G3,F3,"") -> 1 | B3: =IF($G3,IF($G$2=12,SUM(Lån!B9:B20),Lån!B9),"") -> 2510.6514 | C3: =IF($G3,IF($G2=12,SUM(Lån!C9:C20),Lån!C9),"") -> 19032.514 | D3: =IF(G3,Lån!D9*G2,"") -> 21543.165 | E3: =IF(G3,Lån!D3-C3,"") -> 40967.486 | F3: 1 | G3: =AND(Lån!G$8,F3<=Lån!D$5) -> TRUE
A4: =IF(G4,F4,"") -> 2 | B4: =IF($G4,IF($G$2=12,SUM(Lån!B21:B32),Lån!B10),"") -> 1559.0257 | C4: =IF($G4,IF($G$2=12,SUM(Lån!C21:C32),Lån!C10),"") -> 19984.14 | D4: =IF(G4,D$3,"") -> 21543.165 | E4: =IF(G4,E3-C4,"") -> 20983.347 | F4: 2 | G4: =AND(Lån!G$8,F4<=Lån!D$5) -> TRUE
A5: =IF(G5,F5,"") -> 3 | B5: =IF($G5,IF($G$2=12,SUM(Lån!B33:B44),Lån!B11),"") -> 559.81876 | C5: =IF($G5,IF($G$2=12,SUM(Lån!C33:C44),Lån!C11),"") -> 20983.347 | D5: =IF(G5,D$3,"") -> 21543.165 | E5: =IF(G5,E4-C5,"") -> 5.4569682e-10 | F5: 3 | G5: =AND(Lån!G$8,F5<=Lån!D$5) -> TRUE
A6: =IF(G6,F6,"") | B6: =IF($G6,IF($G$2=12,SUM(Lån!B45:B56),Lån!B12),"") | C6: =IF($G6,IF($G$2=12,SUM(Lån!C45:C56),Lån!C12),"") | D6: =IF(G6,D$3,"") | E6: =IF(G6,E5-C6,"") | F6: 4 | G6: =AND(Lån!G$8,F6<=Lån!D$5) -> FALSE
A7: =IF(G7,F7,"") | B7: =IF($G7,IF($G$2=12,SUM(Lån!B57:B68),Lån!B13),"") | C7: =IF($G7,IF($G$2=12,SUM(Lån!C57:C68),Lån!C13),"") | D7: =IF(G7,D$3,"") | E7: =IF(G7,E6-C7,"") | F7: 5 | G7: =AND(Lån!G$8,F7<=Lån!D$5) -> FALSE
A8: =IF(G8,F8,"") | B8: =IF($G8,IF($G$2=12,SUM(Lån!B69:B80),Lån!B14),"") | C8: =IF($G8,IF($G$2=12,SUM(Lån!C69:C80),Lån!C14),"") | D8: =IF(G8,D$3,"") | E8: =IF(G8,E7-C8,"") | F8: 6 | G8: =AND(Lån!G$8,F8<=Lån!D$5) -> FALSE
A9: =IF(G9,F9,"") | B9: =IF($G9,IF($G$2=12,SUM(Lån!B81:B92),Lån!B15),"") | C9: =IF($G9,IF($G$2=12,SUM(Lån!C81:C92),Lån!C15),"") | D9: =IF(G9,D$3,"") | E9: =IF(G9,E8-C9,"") | F9: 7 | G9: =AND(Lån!G$8,F9<=Lån!D$5) -> FALSE
A10: =IF(G10,F10,"") | B10: =IF($G10,IF($G$2=12,SUM(Lån!B93:B104),Lån!B16),"") | C10: =IF($G10,IF($G$2=12,SUM(Lån!C93:C104),Lån!C16),"") | D10: =IF(G10,D$3,"") | E10: =IF(G10,E9-C10,"") | F10: 8 | G10: =AND(Lån!G$8,F10<=Lån!D$5) -> FALSE
A11: =IF(G11,F11,"") | B11: =IF($G11,IF($G$2=12,SUM(Lån!B105:B116),Lån!B17),"") | C11: =IF($G11,IF($G$2=12,SUM(Lån!C105:C116),Lån!C17),"") | D11: =IF(G11,D$3,"") | E11: =IF(G11,E10-C11,"") | F11: 9 | G11: =AND(Lån!G$8,F11<=Lån!D$5) -> FALSE
A12: =IF(G12,F12,"") | B12: =IF($G12,IF($G$2=12,SUM(Lån!B117:B128),Lån!B18),"") | C12: =IF($G12,IF($G$2=12,SUM(Lån!C117:C128),Lån!C18),"") | D12: =IF(G12,D$3,"") | E12: =IF(G12,E11-C12,"") | F12: 10 | G12: =AND(Lån!G$8,F12<=Lån!D$5) -> FALSE
